BEGIN:VCALENDAR
VERSION:2.0
PRODID:-//Waratah Golf Club - ECPv5.10.1//NONSGML v1.0//EN
CALSCALE:GREGORIAN
METHOD:PUBLISH
X-WR-CALNAME:Waratah Golf Club
X-ORIGINAL-URL:https://www.waratahgolfclub.com.au
X-WR-CALDESC:Events for Waratah Golf Club
BEGIN:VTIMEZONE
TZID:Australia/Sydney
BEGIN:STANDARD
TZOFFSETFROM:+1100
TZOFFSETTO:+1000
TZNAME:AEST
DTSTART:20260404T160000
END:STANDARD
BEGIN:DAYLIGHT
TZOFFSETFROM:+1000
TZOFFSETTO:+1100
TZNAME:AEDT
DTSTART:20261003T160000
END:DAYLIGHT
END:VTIMEZONE
BEGIN:VEVENT
DTSTART;VALUE=DATE:20260224
DTEND;VALUE=DATE:20260225
DTSTAMP:20260421T205613
CREATED:20260114T024147Z
LAST-MODIFIED:20260114T024147Z
UID:7511-1771891200-1771977599@www.waratahgolfclub.com.au
SUMMARY:PAR/Captain's Trophy
DESCRIPTION:
URL:https://www.waratahgolfclub.com.au/event/par-captains-trophy-2/
CATEGORIES:Tuesday Ladies Competitions
END:VEVENT
END:VCALENDAR