BEGIN:VCALENDAR
VERSION:2.0
PRODID:-//Waratah Golf Club - ECPv5.10.1//NONSGML v1.0//EN
CALSCALE:GREGORIAN
METHOD:PUBLISH
X-WR-CALNAME:Waratah Golf Club
X-ORIGINAL-URL:https://www.waratahgolfclub.com.au
X-WR-CALDESC:Events for Waratah Golf Club
BEGIN:VTIMEZONE
TZID:Australia/Sydney
BEGIN:STANDARD
TZOFFSETFROM:+1100
TZOFFSETTO:+1000
TZNAME:AEST
DTSTART:20250405T160000
END:STANDARD
BEGIN:DAYLIGHT
TZOFFSETFROM:+1000
TZOFFSETTO:+1100
TZNAME:AEDT
DTSTART:20251004T160000
END:DAYLIGHT
END:VTIMEZONE
BEGIN:VEVENT
DTSTART;VALUE=DATE:20250401
DTEND;VALUE=DATE:20250402
DTSTAMP:20260424T092624
CREATED:20250120T002101Z
LAST-MODIFIED:20250120T002101Z
UID:6350-1743465600-1743551999@www.waratahgolfclub.com.au
SUMMARY:Frith Cup/4 Person Team Event/Split 6's Stableford/ 1 Score on Par 3's/2 Scores on Par 4's/3 Scores on Par 5's
DESCRIPTION:
URL:https://www.waratahgolfclub.com.au/event/frith-cup-4-person-team-event-split-6s-stableford-1-score-on-par-3s-2-scores-on-par-4s-3-scores-on-par-5s/
CATEGORIES:Tuesday Ladies Competitions
END:VEVENT
BEGIN:VEVENT
DTSTART;VALUE=DATE:20250408
DTEND;VALUE=DATE:20250409
DTSTAMP:20260424T092624
CREATED:20250120T002208Z
LAST-MODIFIED:20250120T002208Z
UID:6352-1744070400-1744156799@www.waratahgolfclub.com.au
SUMMARY:Stableford
DESCRIPTION:
URL:https://www.waratahgolfclub.com.au/event/stableford-151/
CATEGORIES:Tuesday Ladies Competitions
END:VEVENT
BEGIN:VEVENT
DTSTART;VALUE=DATE:20250422
DTEND;VALUE=DATE:20250423
DTSTAMP:20260424T092624
CREATED:20250120T002518Z
LAST-MODIFIED:20250423T033257Z
UID:6356-1745280000-1745366399@www.waratahgolfclub.com.au
SUMMARY:Stableford
DESCRIPTION:
URL:https://www.waratahgolfclub.com.au/event/stroke-monthly-medal-scratch-putting-3rd-rnd-gnsw-medal/
CATEGORIES:Tuesday Ladies Competitions
END:VEVENT
BEGIN:VEVENT
DTSTART;VALUE=DATE:20250429
DTEND;VALUE=DATE:20250430
DTSTAMP:20260424T092624
CREATED:20250120T002613Z
LAST-MODIFIED:20250423T033445Z
UID:6358-1745884800-1745971199@www.waratahgolfclub.com.au
SUMMARY:Scratch/Monthly Medal/Putting in Conjunction/3rd Rnd GNSW Medal
DESCRIPTION:
URL:https://www.waratahgolfclub.com.au/event/par-38/
CATEGORIES:Tuesday Ladies Competitions
END:VEVENT
END:VCALENDAR