BEGIN:VCALENDAR
VERSION:2.0
PRODID:-//Waratah Golf Club - ECPv5.10.1//NONSGML v1.0//EN
CALSCALE:GREGORIAN
METHOD:PUBLISH
X-WR-CALNAME:Waratah Golf Club
X-ORIGINAL-URL:https://www.waratahgolfclub.com.au
X-WR-CALDESC:Events for Waratah Golf Club
BEGIN:VTIMEZONE
TZID:Australia/Sydney
BEGIN:STANDARD
TZOFFSETFROM:+1100
TZOFFSETTO:+1000
TZNAME:AEST
DTSTART:20240406T160000
END:STANDARD
BEGIN:DAYLIGHT
TZOFFSETFROM:+1000
TZOFFSETTO:+1100
TZNAME:AEDT
DTSTART:20241005T160000
END:DAYLIGHT
END:VTIMEZONE
BEGIN:VEVENT
DTSTART;VALUE=DATE:20241105
DTEND;VALUE=DATE:20241106
DTSTAMP:20260424T020112
CREATED:20240118T090108Z
LAST-MODIFIED:20240118T090131Z
UID:4898-1730764800-1730851199@www.waratahgolfclub.com.au
SUMMARY:Melbourne Cup Day/Pro-Shop Competition
DESCRIPTION:
URL:https://www.waratahgolfclub.com.au/event/melbourne-cup-day-pro-shop-competition/
CATEGORIES:Tuesday Ladies Competitions
END:VEVENT
BEGIN:VEVENT
DTSTART;VALUE=DATE:20241112
DTEND;VALUE=DATE:20241113
DTSTAMP:20260424T020112
CREATED:20240118T090302Z
LAST-MODIFIED:20240118T090310Z
UID:4901-1731369600-1731455999@www.waratahgolfclub.com.au
SUMMARY:Stroke/Glad Todkill Playoff/ Stableford for Remainder of Field
DESCRIPTION:
URL:https://www.waratahgolfclub.com.au/event/stroke-glad-todkill-playoff-stableford-for-remainder-of-field/
CATEGORIES:Tuesday Ladies Competitions
END:VEVENT
BEGIN:VEVENT
DTSTART;VALUE=DATE:20241119
DTEND;VALUE=DATE:20241120
DTSTAMP:20260424T020112
CREATED:20240118T090531Z
LAST-MODIFIED:20240118T090537Z
UID:4903-1731974400-1732060799@www.waratahgolfclub.com.au
SUMMARY:Back to Waratah/Christmas Fun Day/'0'Birthdays/4-Person Team Event/3 Clubs and Putter/2-Scores to count
DESCRIPTION:
URL:https://www.waratahgolfclub.com.au/event/back-to-waratah-christmas-fun-day-0birthdays-4-person-team-event-3-clubs-and-putter-2-scores-to-count/
CATEGORIES:Tuesday Ladies Competitions
END:VEVENT
BEGIN:VEVENT
DTSTART;VALUE=DATE:20241126
DTEND;VALUE=DATE:20241127
DTSTAMP:20260424T020112
CREATED:20240118T090643Z
LAST-MODIFIED:20240118T090722Z
UID:4905-1732579200-1732665599@www.waratahgolfclub.com.au
SUMMARY:Captain V President/Aggregate Stableford
DESCRIPTION:
URL:https://www.waratahgolfclub.com.au/event/captain-v-president-aggregate-stableford-2/
CATEGORIES:Tuesday Ladies Competitions
END:VEVENT
END:VCALENDAR